BEGIN:VCALENDAR
VERSION:2.0
PRODID:-//jEvents 2.0 for Joomla//EN
CALSCALE:GREGORIAN
METHOD:PUBLISH
BEGIN:VEVENT
UID:08a7af94de3e133e569ac50a5432efec
CATEGORIES:Vereinsveranstaltung
CREATED:20260420T091927
SUMMARY:Ausflug Banger Park
LOCATION:Scharnitz
URL;VALUE=URI:https://www.ski-weilheim.de/index.php/termine/terminejvevent/eventdetail/84
 3/-/ausflug-banger-park?tmpl=component
DESCRIPTION:Ausflug nach Scharnitz\nin den Bangerpark\n \n \n Dieser Event wurde import
 iert von: https://www.ski-weilheim.de/index.php/termine/terminejvevent/even
 tdetail/843/-/ausflug-banger-park?tmpl=component (https://www.ski-weilheim.
 de/index.php/termine/terminejvevent/eventdetail/843/-/ausflug-banger-park?t
 mpl=component)
X-ALT-DESC;FMTTYPE=text/html:<p>Ausflug nach Scharnitz</p><p>in den Bangerpark</p><p>&nbsp;</p><p>&nbsp;
 </p> <a href="https://www.ski-weilheim.de/index.php/termine/terminejvevent/
 eventdetail/843/-/ausflug-banger-park?tmpl=component">Dieser Event wurde im
 portiert von: https://www.ski-weilheim.de/index.php/termine/terminejvevent/
 eventdetail/843/-/ausflug-banger-park?tmpl=component</a>X-EXTRAINFO:anmelden (index.php/?option=com_visforms&amp;view=visforms&amp;id=9&amp;for
 m9rennendatum=27.09.2026&amp;form9rennenname=AusflugBangerpark&amp;form9nen
 ngeld=12)
DTSTAMP:20260420T135453
DTSTART;VALUE=DATE:20260927
DTEND;VALUE=DATE:20260928
SEQUENCE:0
TRANSP:OPAQUE
END:VEVENT
END:VCALENDAR