BEGIN:VCALENDAR
VERSION:2.0
PRODID:-//jEvents 2.0 for Joomla//EN
CALSCALE:GREGORIAN
METHOD:PUBLISH
BEGIN:VEVENT
UID:8adef64544f882fb90dbd395baa84ca1
CATEGORIES:Vereinsveranstaltung
CREATED:20260420T091430
SUMMARY:Besichtigung Völkl Werk
LOCATION:Straubing
URL;VALUE=URI:https://www.ski-weilheim.de/index.php/termine/terminejvevent/eventdetail/84
 2/-/besichtigung-voelkl-werk?tmpl=component
DESCRIPTION:<p>Ausflug nach Straubing</p><p>zur Besichtigung der Völkl Fabrik</p><p>&nb
 sp;</p><p>&nbsp;</p> <a href="https://www.ski-weilheim.de/index.php/termine
 /terminejvevent/eventdetail/842/-/besichtigung-voelkl-werk?tmpl=component">
 Dieser Event wurde importiert von: https://www.ski-weilheim.de/index.php/te
 rmine/terminejvevent/eventdetail/842/-/besichtigung-voelkl-werk?tmpl=compon
 ent</a>X-EXTRAINFO:anmelden (index.php/?option=com_visforms&amp;view=visforms&amp;id=9&amp;for
 m9rennendatum=14.09.2026&amp;form9rennenname=AusflugVölkl&amp;form9nenngeld
 =12)
DTSTAMP:20260420T135535
DTSTART;VALUE=DATE:20260914
DTEND;VALUE=DATE:20260915
SEQUENCE:0
TRANSP:OPAQUE
END:VEVENT
END:VCALENDAR