BEGIN:VCALENDAR
VERSION:2.0
PRODID:-//jEvents 2.0 for Joomla//EN
CALSCALE:GREGORIAN
METHOD:PUBLISH
BEGIN:VEVENT
UID:b18ce77b1cd2ed004919dcbe6a011238
CATEGORIES:Kinderrennen
CREATED:20260217T183643
SUMMARY:Oberammergauer Zwergerlrennen
LOCATION:Steckenberg Unterammergau
URL;VALUE=URI:https://www.ski-weilheim.de/index.php/termine/terminejvevent/eventdetail/84
 0/-/oberammergauer-zwergerlrennen?tmpl=component
DESCRIPTION:Oberammergauer Zwergerlrennen\nLiftbetrieb ab 8:30 Uhr\nBesichtigung: ab 9:
 15 Uhr\nStart: 10:00 Uhr\nEin Durchgang RS für die Jahrgänge 2021 bis 2011\
 n Dieser Event wurde importiert von: https://www.ski-weilheim.de/index.php/
 termine/terminejvevent/eventdetail/840/-/oberammergauer-zwergerlrennen?tmpl
 =component (https://www.ski-weilheim.de/index.php/termine/terminejvevent/ev
 entdetail/840/-/oberammergauer-zwergerlrennen?tmpl=component)
X-ALT-DESC;FMTTYPE=text/html:<p><em><strong>Oberammergauer Zwergerlrennen</strong></em></p><p>Liftbetrie
 b ab 8:30 Uhr</p><p>Besichtigung: ab 9:15 Uhr</p><p>Start: 10:00 Uhr</p><p>
 <strong>Ein Durchgang RS für die Jahrgänge 2021 bis 2011</strong></p> <a hr
 ef="https://www.ski-weilheim.de/index.php/termine/terminejvevent/eventdetai
 l/840/-/oberammergauer-zwergerlrennen?tmpl=component">Dieser Event wurde im
 portiert von: https://www.ski-weilheim.de/index.php/termine/terminejvevent/
 eventdetail/840/-/oberammergauer-zwergerlrennen?tmpl=component</a>X-EXTRAINFO:anmelden (index.php/?option=com_visforms&amp;view=visforms&amp;id=9&amp;for
 m9rennendatum=22.02.2026&amp;form9nenngeld=12&amp;form9rennenname=Oberammer
 gauer Zwergerlrennen)
DTSTAMP:20260421T054401
DTSTART;VALUE=DATE:20260222
DTEND;VALUE=DATE:20260223
SEQUENCE:0
TRANSP:OPAQUE
END:VEVENT
END:VCALENDAR