BEGIN:VCALENDAR
VERSION:2.0
PRODID:-//jEvents 2.0 for Joomla//EN
CALSCALE:GREGORIAN
METHOD:PUBLISH
BEGIN:VEVENT
UID:6fb1ae491b4b7db6f714331b5afcea77
CATEGORIES:Vereinsveranstaltung
CREATED:20171017T200839
SUMMARY:Adventshütte in der Schmiedstraße
URL;VALUE=URI:https://www.ski-weilheim.de/index.php/termine/terminejvevent/eventdetail/84
 /-/adventshuette-in-der-schmiedstrasse?tmpl=component
DESCRIPTION: Dieser Event wurde importiert von: https://www.ski-weilheim.de/index.php/t
 ermine/terminejvevent/eventdetail/84/-/adventshuette-in-der-schmiedstrasse?
 tmpl=component (https://www.ski-weilheim.de/index.php/termine/terminejveven
 t/eventdetail/84/-/adventshuette-in-der-schmiedstrasse?tmpl=component)
X-ALT-DESC;FMTTYPE=text/html: <a href="https://www.ski-weilheim.de/index.php/termine/terminejvevent/even
 tdetail/84/-/adventshuette-in-der-schmiedstrasse?tmpl=component">Dieser Eve
 nt wurde importiert von: https://www.ski-weilheim.de/index.php/termine/term
 inejvevent/eventdetail/84/-/adventshuette-in-der-schmiedstrasse?tmpl=compon
 ent</a>DTSTAMP:20260422T015537
DTSTART:20171215T080000
DTEND:20171215T190000
SEQUENCE:0
TRANSP:OPAQUE
END:VEVENT
END:VCALENDAR