BEGIN:VCALENDAR
VERSION:2.0
PRODID:-//jEvents 2.0 for Joomla//EN
CALSCALE:GREGORIAN
METHOD:PUBLISH
BEGIN:VEVENT
UID:84660a86f114767cf9565f191377b2e3
CATEGORIES:Zienercup
CREATED:20251230T093913
SUMMARY:4. Ziener-Cup
LOCATION:Kranzberg Mittenwald
URL;VALUE=URI:https://www.ski-weilheim.de/index.php/termine/terminejvevent/eventdetail/83
 6/-/4-ziener-cup?tmpl=component
DESCRIPTION:4. Ziener-Cup\nNightrace Slalom in Mittenwald\nfür die Jahrgänge 2019 bis 2
 014\n \n \n \n \n Dieser Event wurde importiert von: https://www.ski-weilhe
 im.de/index.php/termine/terminejvevent/eventdetail/836/-/4-ziener-cup?tmpl=
 component (https://www.ski-weilheim.de/index.php/termine/terminejvevent/eve
 ntdetail/836/-/4-ziener-cup?tmpl=component)
X-ALT-DESC;FMTTYPE=text/html:<p>4. Ziener-Cup</p><p>Nightrace Slalom in Mittenwald</p><p>für die Jahrgän
 ge 2019 bis 2014</p><p>&nbsp;</p><p>&nbsp;</p><p>&nbsp;</p><p>&nbsp;</p> <a
  href="https://www.ski-weilheim.de/index.php/termine/terminejvevent/eventde
 tail/836/-/4-ziener-cup?tmpl=component">Dieser Event wurde importiert von: 
 https://www.ski-weilheim.de/index.php/termine/terminejvevent/eventdetail/83
 6/-/4-ziener-cup?tmpl=component</a>X-EXTRAINFO:anmelden (index.php/?option=com_visforms&amp;view=visforms&amp;id=9&amp;for
 m9rennendatum=20.02.2026&amp;form9nenngeld=12&amp;form9rennenname=4. Ziener
 cup)
DTSTAMP:20260420T164422
DTSTART;VALUE=DATE:20260220
DTEND;VALUE=DATE:20260221
SEQUENCE:0
TRANSP:OPAQUE
END:VEVENT
END:VCALENDAR