BEGIN:VCALENDAR
VERSION:2.0
PRODID:-//jEvents 2.0 for Joomla//EN
CALSCALE:GREGORIAN
METHOD:PUBLISH
BEGIN:VEVENT
UID:09cea3654897b1d4da3b671a63112b14
CATEGORIES:Kreiscup
CREATED:20251208T160414
SUMMARY:2. Kreiscup
LOCATION:Reithlift / Tegelberg
URL;VALUE=URI:https://www.ski-weilheim.de/index.php/termine/terminejvevent/eventdetail/83
 5/-/2-kreiscup?tmpl=component
DESCRIPTION:<p>Riesenslalom am Reithlift (Tegelberg)</p><p>Start: 10:00 Uhr</p><p>Besic
 htigung: 9:00 - 9:30 Uhr</p><p>Liftbetrieb ab 8:30 Uhr</p><p>Veranstalter S
 C Bernbeuren</p><p>&nbsp;</p><p>&nbsp;</p><p>&nbsp;</p> <a href="https://ww
 w.ski-weilheim.de/index.php/termine/terminejvevent/eventdetail/835/-/2-krei
 scup?tmpl=component">Dieser Event wurde importiert von: https://www.ski-wei
 lheim.de/index.php/termine/terminejvevent/eventdetail/835/-/2-kreiscup?tmpl
 =component</a>X-EXTRAINFO:anmelden (index.php/?option=com_visforms&amp;view=visforms&amp;id=9&amp;for
 m9rennendatum=08.02.2026&amp;form9rennenname=2. Kreiscup&amp;form9nenngeld=
 12)
DTSTAMP:20260420T122556
DTSTART;VALUE=DATE:20260208
DTEND;VALUE=DATE:20260209
SEQUENCE:0
TRANSP:OPAQUE
END:VEVENT
END:VCALENDAR