BEGIN:VCALENDAR
VERSION:2.0
PRODID:-//jEvents 2.0 for Joomla//EN
CALSCALE:GREGORIAN
METHOD:PUBLISH
BEGIN:VEVENT
UID:9864dd79ef09043692c6115fd0307616
CATEGORIES:Trainingstermine
CREATED:19700101T000000
SUMMARY:Trainingslager Galtür
LOCATION:Galtür / Tirol
URL;VALUE=URI:https://www.ski-weilheim.de/index.php/termine/terminejvevent/eventdetail/83
 2/-/trainingslager-galtuer?tmpl=component
DESCRIPTION:Trainingslager\nALLE Gruppen\n \n Dieser Event wurde importiert von: https:
 //www.ski-weilheim.de/index.php/termine/terminejvevent/eventdetail/832/-/tr
 ainingslager-galtuer?tmpl=component (https://www.ski-weilheim.de/index.php/
 termine/terminejvevent/eventdetail/832/-/trainingslager-galtuer?tmpl=compon
 ent)
X-ALT-DESC;FMTTYPE=text/html:<p>Trainingslager</p><p>ALLE Gruppen</p><p>&nbsp;</p> <a href="https://www.
 ski-weilheim.de/index.php/termine/terminejvevent/eventdetail/832/-/training
 slager-galtuer?tmpl=component">Dieser Event wurde importiert von: https://w
 ww.ski-weilheim.de/index.php/termine/terminejvevent/eventdetail/832/-/train
 ingslager-galtuer?tmpl=component</a>DTSTAMP:20260421T010749
DTSTART;VALUE=DATE:20251212
DTEND;VALUE=DATE:20251213
SEQUENCE:0
RRULE:FREQ=DAILY;UNTIL=20251213T000000Z;INTERVAL=1
TRANSP:OPAQUE
END:VEVENT
END:VCALENDAR