BEGIN:VCALENDAR
VERSION:2.0
PRODID:-//jEvents 2.0 for Joomla//EN
CALSCALE:GREGORIAN
METHOD:PUBLISH
BEGIN:VEVENT
UID:d00043c9c0975a4259c75c8e96a995b8
CATEGORIES:Trainingstermine
CREATED:20251128T124522
SUMMARY:Training Zugspitze
LOCATION:Zugspitze
URL;VALUE=URI:https://www.ski-weilheim.de/index.php/termine/terminejvevent/eventdetail/83
 1/-/training-zugspitze?tmpl=component
DESCRIPTION:Training Zugspitze\nALLE Gruppen\nTreffpunkt: 7:55 Uhr Eibsee Zahnradbahnho
 f\nEnde: 13:00 Uhr\n Dieser Event wurde importiert von: https://www.ski-wei
 lheim.de/index.php/termine/terminejvevent/eventdetail/831/-/training-zugspi
 tze?tmpl=component
X-ALT-DESC;FMTTYPE=text/html:<p>Training Zugspitze</p><p>ALLE Gruppen</p><p>Treffpunkt: 7:55 Uhr Eibsee 
 Zahnradbahnhof</p><p>Ende: 13:00 Uhr</p> <a href="https://www.ski-weilheim.
 de/index.php/termine/terminejvevent/eventdetail/831/-/training-zugspitze?tm
 pl=component">Dieser Event wurde importiert von: https://www.ski-weilheim.d
 e/index.php/termine/terminejvevent/eventdetail/831/-/training-zugspitze?tmp
 l=component</a>DTSTAMP:20260421T033557
DTSTART:20251206T080000
DTEND:20251206T130000
SEQUENCE:0
TRANSP:OPAQUE
END:VEVENT
END:VCALENDAR