BEGIN:VCALENDAR
VERSION:2.0
PRODID:-//jEvents 2.0 for Joomla//EN
CALSCALE:GREGORIAN
METHOD:PUBLISH
BEGIN:VEVENT
UID:5f0d3a46ae3063dd566bec4abf0998bc
CATEGORIES:Trainingstermine
CREATED:20251128T124424
SUMMARY:Training Zugspitze
LOCATION:Zugspitze
URL;VALUE=URI:https://www.ski-weilheim.de/index.php/termine/terminejvevent/eventdetail/83
 0/-/training-zugspitze?tmpl=component
DESCRIPTION:Training Zugspitze\nALLE Gruppen\nTreffpunkt: 7:55 Uhr Eibsee Zahnradbahnho
 f\nEnde: 13:00 Uhr\n Dieser Event wurde importiert von: https://www.ski-wei
 lheim.de/index.php/termine/terminejvevent/eventdetail/830/-/training-zugspi
 tze?tmpl=component (https://www.ski-weilheim.de/index.php/termine/terminejv
 event/eventdetail/830/-/training-zugspitze?tmpl=component)
X-ALT-DESC;FMTTYPE=text/html:<p>Training Zugspitze</p><p>ALLE Gruppen</p><p>Treffpunkt: 7:55 Uhr Eibsee 
 Zahnradbahnhof</p><p>Ende: 13:00 Uhr</p> <a href="https://www.ski-weilheim.
 de/index.php/termine/terminejvevent/eventdetail/830/-/training-zugspitze?tm
 pl=component">Dieser Event wurde importiert von: https://www.ski-weilheim.d
 e/index.php/termine/terminejvevent/eventdetail/830/-/training-zugspitze?tmp
 l=component</a>DTSTAMP:20260421T054356
DTSTART:20251129T080000
DTEND:20251129T130000
SEQUENCE:0
TRANSP:OPAQUE
END:VEVENT
END:VCALENDAR