BEGIN:VCALENDAR
VERSION:2.0
PRODID:-//jEvents 2.0 for Joomla//EN
CALSCALE:GREGORIAN
METHOD:PUBLISH
BEGIN:VEVENT
UID:211fa213cd8dec2d3a075c769a2cd8c1
CATEGORIES:Trainingstermine
CREATED:20251128T124145
SUMMARY:Training Garmisch Classic
LOCATION:Hausberg GAP
URL;VALUE=URI:https://www.ski-weilheim.de/index.php/termine/terminejvevent/eventdetail/82
 9/-/training-garmisch-classic?tmpl=component
DESCRIPTION:Training am Hausberg\nALLE Gruppen\nTreffpunkt: 8:15 Uhr Hausberg Talstatio
 n\nBeginn: 8:30 Uhr\nEnde: 12:30 Uhr\n Dieser Event wurde importiert von: h
 ttps://www.ski-weilheim.de/index.php/termine/terminejvevent/eventdetail/829
 /-/training-garmisch-classic?tmpl=component (https://www.ski-weilheim.de/in
 dex.php/termine/terminejvevent/eventdetail/829/-/training-garmisch-classic?
 tmpl=component)
X-ALT-DESC;FMTTYPE=text/html:<p>Training am Hausberg</p><p>ALLE Gruppen</p><p>Treffpunkt: 8:15 Uhr Hausb
 erg Talstation</p><p>Beginn: 8:30 Uhr</p><p>Ende: 12:30 Uhr</p> <a href="ht
 tps://www.ski-weilheim.de/index.php/termine/terminejvevent/eventdetail/829/
 -/training-garmisch-classic?tmpl=component">Dieser Event wurde importiert v
 on: https://www.ski-weilheim.de/index.php/termine/terminejvevent/eventdetai
 l/829/-/training-garmisch-classic?tmpl=component</a>DTSTAMP:20260421T033608
DTSTART:20251220T083000
DTEND:20251220T123000
SEQUENCE:0
TRANSP:OPAQUE
END:VEVENT
END:VCALENDAR