BEGIN:VCALENDAR
VERSION:2.0
PRODID:-//jEvents 2.0 for Joomla//EN
CALSCALE:GREGORIAN
METHOD:PUBLISH
BEGIN:VEVENT
UID:61244f7ecd1f7fb91273f7d418f31441
CATEGORIES:Trainingstermine
CREATED:19700101T000000
SUMMARY:Training Garmisch Classic
LOCATION:Hausberg GAP
URL;VALUE=URI:https://www.ski-weilheim.de/index.php/termine/terminejvevent/eventdetail/81
 7/-/training-garmisch-classic?tmpl=component
DESCRIPTION:Training am Hausberg\nStangentraining SL am Trögllift\nALLE Gruppen\nTreffp
 unkt: 8:15 Uhr Hausberg Talstation\nBeginn: 8:30 Uhr\nEnde: 12:30 Uhr\n Die
 ser Event wurde importiert von: https://www.ski-weilheim.de/index.php/termi
 ne/terminejvevent/eventdetail/817/-/training-garmisch-classic?tmpl=componen
 t
X-ALT-DESC;FMTTYPE=text/html:<p>Training am Hausberg</p><p>Stangentraining SL am Trögllift</p><p>ALLE Gr
 uppen</p><p>Treffpunkt: 8:15 Uhr Hausberg Talstation</p><p>Beginn: 8:30 Uhr
 </p><p>Ende: 12:30 Uhr</p> <a href="https://www.ski-weilheim.de/index.php/t
 ermine/terminejvevent/eventdetail/817/-/training-garmisch-classic?tmpl=comp
 onent">Dieser Event wurde importiert von: https://www.ski-weilheim.de/index
 .php/termine/terminejvevent/eventdetail/817/-/training-garmisch-classic?tmp
 l=component</a>DTSTAMP:20260420T135626
DTSTART:20260110T083000
DTEND:20260110T123000
SEQUENCE:0
RRULE:FREQ=WEEKLY;UNTIL=20260328T000000Z;INTERVAL=1;BYDAY=SA
EXDATE:20260214T083000,20260124T083000,20260314T083000
TRANSP:OPAQUE
END:VEVENT
END:VCALENDAR