BEGIN:VCALENDAR
VERSION:2.0
PRODID:-//jEvents 2.0 for Joomla//EN
CALSCALE:GREGORIAN
METHOD:PUBLISH
BEGIN:VEVENT
UID:55e0918408cf4caa5634f342b83f5c04
CATEGORIES:Trainingstermine
CREATED:20251128T111957
SUMMARY:Training Zugspitze
LOCATION:Zugspitze
URL;VALUE=URI:https://www.ski-weilheim.de/index.php/termine/terminejvevent/eventdetail/81
 6/-/training-zugspitze?tmpl=component
DESCRIPTION:<p>Technik Training</p><p>Zugspitze Treffpunkt 8:15 Uhr</p><p>&nbsp;</p> <a
  href="https://www.ski-weilheim.de/index.php/termine/terminejvevent/eventde
 tail/816/-/training-zugspitze?tmpl=component">Dieser Event wurde importiert
  von: https://www.ski-weilheim.de/index.php/termine/terminejvevent/eventdet
 ail/816/-/training-zugspitze?tmpl=component</a>DTSTAMP:20260420T222440
DTSTART:20260104T083000
DTEND:20260104T123000
SEQUENCE:0
TRANSP:OPAQUE
END:VEVENT
END:VCALENDAR