BEGIN:VCALENDAR
VERSION:2.0
PRODID:-//jEvents 2.0 for Joomla//EN
CALSCALE:GREGORIAN
METHOD:PUBLISH
BEGIN:VEVENT
UID:f180dcaabc0dba860cd8aa949589c9bd
CATEGORIES:Trainingstermine
CREATED:20251128T110502
SUMMARY:Training Garmisch Classic
LOCATION:Hausberg Garmisch Partenkirchen
URL;VALUE=URI:https://www.ski-weilheim.de/index.php/termine/terminejvevent/eventdetail/81
 5/-/training-garmisch-classic?tmpl=component
DESCRIPTION:<p>Technik Training Garmisch Classic</p><p>Treffpunkt Hausberg 8:15 Uhr</p>
  <a href="https://www.ski-weilheim.de/index.php/termine/terminejvevent/even
 tdetail/815/-/training-garmisch-classic?tmpl=component">Dieser Event wurde 
 importiert von: https://www.ski-weilheim.de/index.php/termine/terminejveven
 t/eventdetail/815/-/training-garmisch-classic?tmpl=component</a>DTSTAMP:20260420T165358
DTSTART:20260103T083000
DTEND:20260103T123000
SEQUENCE:0
TRANSP:OPAQUE
END:VEVENT
END:VCALENDAR