BEGIN:VCALENDAR
VERSION:2.0
PRODID:-//jEvents 2.0 for Joomla//EN
CALSCALE:GREGORIAN
METHOD:PUBLISH
BEGIN:VEVENT
UID:198f8e850816cd7032a3b8fd8ede1459
CATEGORIES:Trainingstermine
CREATED:20251128T110435
SUMMARY:Training Axamer Lizum
LOCATION:Axamer Lizum
URL;VALUE=URI:https://www.ski-weilheim.de/index.php/termine/terminejvevent/eventdetail/81
 4/-/training-axamer-lizum?tmpl=component
DESCRIPTION:Stangentraining Riesenslalom\nAxamer Lizum\nTreffpunkt 8:30 Uhr Talstation\
 n \n Dieser Event wurde importiert von: https://www.ski-weilheim.de/index.p
 hp/termine/terminejvevent/eventdetail/814/-/training-axamer-lizum?tmpl=comp
 onent
X-ALT-DESC;FMTTYPE=text/html:<p>Stangentraining Riesenslalom</p><p>Axamer Lizum</p><p>Treffpunkt 8:30 Uh
 r Talstation</p><p>&nbsp;</p> <a href="https://www.ski-weilheim.de/index.ph
 p/termine/terminejvevent/eventdetail/814/-/training-axamer-lizum?tmpl=compo
 nent">Dieser Event wurde importiert von: https://www.ski-weilheim.de/index.
 php/termine/terminejvevent/eventdetail/814/-/training-axamer-lizum?tmpl=com
 ponent</a>DTSTAMP:20260420T122632
DTSTART:20260102T083000
DTEND:20260102T123000
SEQUENCE:0
TRANSP:OPAQUE
END:VEVENT
END:VCALENDAR