BEGIN:VCALENDAR
VERSION:2.0
PRODID:-//jEvents 2.0 for Joomla//EN
CALSCALE:GREGORIAN
METHOD:PUBLISH
BEGIN:VEVENT
UID:7534ef054c7ad19ed24a74a3e3fdec67
CATEGORIES:Trainingstermine
CREATED:20251128T110248
SUMMARY:Training Ehrwald
LOCATION:Wettersteinlifte Ehrwald
URL;VALUE=URI:https://www.ski-weilheim.de/index.php/termine/terminejvevent/eventdetail/81
 3/-/training-ehrwald?tmpl=component
DESCRIPTION:<p>Slalom Training</p><p>an den Wettersteinliften in Ehrwald</p><p>&nbsp;</
 p> <a href="https://www.ski-weilheim.de/index.php/termine/terminejvevent/ev
 entdetail/813/-/training-ehrwald?tmpl=component">Dieser Event wurde importi
 ert von: https://www.ski-weilheim.de/index.php/termine/terminejvevent/event
 detail/813/-/training-ehrwald?tmpl=component</a>DTSTAMP:20260421T030310
DTSTART:20251229T083000
DTEND:20251229T123000
SEQUENCE:0
TRANSP:OPAQUE
END:VEVENT
END:VCALENDAR