BEGIN:VCALENDAR
VERSION:2.0
PRODID:-//jEvents 2.0 for Joomla//EN
CALSCALE:GREGORIAN
METHOD:PUBLISH
BEGIN:VEVENT
UID:292c5e9a6070331c8fa386d19f3e7c16
CATEGORIES:Trainingstermine
CREATED:20251128T110232
SUMMARY:Training Ehrwald
LOCATION:Wettersteinlifte Ehrwald
URL;VALUE=URI:https://www.ski-weilheim.de/index.php/termine/terminejvevent/eventdetail/81
 2/-/training-ehrwald?tmpl=component
DESCRIPTION:<p>Slalom Training</p><p>an den Wettersteinliften in Ehrwald</p><p>&nbsp;</
 p> <a href="https://www.ski-weilheim.de/index.php/termine/terminejvevent/ev
 entdetail/812/-/training-ehrwald?tmpl=component">Dieser Event wurde importi
 ert von: https://www.ski-weilheim.de/index.php/termine/terminejvevent/event
 detail/812/-/training-ehrwald?tmpl=component</a>DTSTAMP:20260421T013752
DTSTART:20251228T083000
DTEND:20251228T123000
SEQUENCE:0
TRANSP:OPAQUE
END:VEVENT
END:VCALENDAR