BEGIN:VCALENDAR
VERSION:2.0
PRODID:-//jEvents 2.0 for Joomla//EN
CALSCALE:GREGORIAN
METHOD:PUBLISH
BEGIN:VEVENT
UID:f4aa88265b2264f9f026d38971226bab
CATEGORIES:Trainingstermine
CREATED:20251128T110206
SUMMARY:Training Ehrwald
LOCATION:Wettersteinlifte Ehrwald
URL;VALUE=URI:https://www.ski-weilheim.de/index.php/termine/terminejvevent/eventdetail/81
 1/-/training-ehrwald?tmpl=component
DESCRIPTION:<p>Slalom Training</p><p>an den Wettersteinliften in Ehrwald</p><p>&nbsp;</
 p> <a href="https://www.ski-weilheim.de/index.php/termine/terminejvevent/ev
 entdetail/811/-/training-ehrwald?tmpl=component">Dieser Event wurde importi
 ert von: https://www.ski-weilheim.de/index.php/termine/terminejvevent/event
 detail/811/-/training-ehrwald?tmpl=component</a>DTSTAMP:20260421T013757
DTSTART:20251227T083000
DTEND:20251227T123000
SEQUENCE:0
TRANSP:OPAQUE
END:VEVENT
END:VCALENDAR