BEGIN:VCALENDAR
VERSION:2.0
PRODID:-//jEvents 2.0 for Joomla//EN
CALSCALE:GREGORIAN
METHOD:PUBLISH
BEGIN:VEVENT
UID:88481c730325a7e3c055078d523ca3a9
CATEGORIES:BZB-Cup
CREATED:20251126T101619
SUMMARY:5. BZB-Cup
LOCATION:Gudiberg GAP
URL;VALUE=URI:https://www.ski-weilheim.de/index.php/termine/terminejvevent/eventdetail/80
 9/-/5-bzb-cup?tmpl=component
DESCRIPTION:<p>5. BZB Rennen</p><p>Riesenslalom am Gudiberg</p><p>&nbsp;</p><p>&nbsp;</
 p> <a href="https://www.ski-weilheim.de/index.php/termine/terminejvevent/ev
 entdetail/809/-/5-bzb-cup?tmpl=component">Dieser Event wurde importiert von
 : https://www.ski-weilheim.de/index.php/termine/terminejvevent/eventdetail/
 809/-/5-bzb-cup?tmpl=component</a>X-EXTRAINFO:anmelden (index.php/?option=com_visforms&amp;view=visforms&amp;id=9&amp;for
 m9rennendatum=21.02.2026&amp;form9nenngeld=14&amp;form9rennenname=5. BZB RS
  )
DTSTAMP:20260421T054953
DTSTART;VALUE=DATE:20260221
DTEND;VALUE=DATE:20260222
SEQUENCE:0
TRANSP:OPAQUE
END:VEVENT
END:VCALENDAR