BEGIN:VCALENDAR
VERSION:2.0
PRODID:-//jEvents 2.0 for Joomla//EN
CALSCALE:GREGORIAN
METHOD:PUBLISH
BEGIN:VEVENT
UID:34eaf114d31f5db8dc12582548a251b2
CATEGORIES:BZB-Cup
CREATED:20251126T101512
SUMMARY:4. BZB-Cup
LOCATION:Gudiberg GAP
URL;VALUE=URI:https://www.ski-weilheim.de/index.php/termine/terminejvevent/eventdetail/80
 8/-/4-bzb-cup?tmpl=component
DESCRIPTION:4. BZB Rennen\nSlalom am Gudiberg\nFür die Jahrgänge 2014 bis 2010\n \n \n 
 \n Dieser Event wurde importiert von: https://www.ski-weilheim.de/index.php
 /termine/terminejvevent/eventdetail/808/-/4-bzb-cup?tmpl=component (https:/
 /www.ski-weilheim.de/index.php/termine/terminejvevent/eventdetail/808/-/4-b
 zb-cup?tmpl=component)
X-ALT-DESC;FMTTYPE=text/html:<p>4. BZB Rennen</p><p>Slalom am Gudiberg</p><p>Für die Jahrgänge 2014 bis 
 2010</p><p>&nbsp;</p><p>&nbsp;</p><p>&nbsp;</p> <a href="https://www.ski-we
 ilheim.de/index.php/termine/terminejvevent/eventdetail/808/-/4-bzb-cup?tmpl
 =component">Dieser Event wurde importiert von: https://www.ski-weilheim.de/
 index.php/termine/terminejvevent/eventdetail/808/-/4-bzb-cup?tmpl=component
 </a>X-EXTRAINFO:anmelden (index.php/?option=com_visforms&amp;view=visforms&amp;id=9&amp;for
 m9rennendatum=19.02.2026&amp;form9nenngeld=14&amp;form9rennenname=4. BZB SL
  )
DTSTAMP:20260420T193501
DTSTART;VALUE=DATE:20260219
DTEND;VALUE=DATE:20260220
SEQUENCE:0
TRANSP:OPAQUE
END:VEVENT
END:VCALENDAR