BEGIN:VCALENDAR
VERSION:2.0
PRODID:-//jEvents 2.0 for Joomla//EN
CALSCALE:GREGORIAN
METHOD:PUBLISH
BEGIN:VEVENT
UID:f1f1314d2d3bffa0dbc8daf9e9860a53
CATEGORIES:BZB-Cup
CREATED:20251126T095213
SUMMARY:3. BZB-Cup
LOCATION:Kandahar
URL;VALUE=URI:https://www.ski-weilheim.de/index.php/termine/terminejvevent/eventdetail/80
 7/-/3-bzb-cup?tmpl=component
DESCRIPTION:3. BZB Rennen\nRiesenslalom auf der Kandahar\n \n \n Dieser Event wurde imp
 ortiert von: https://www.ski-weilheim.de/index.php/termine/terminejvevent/e
 ventdetail/807/-/3-bzb-cup?tmpl=component (https://www.ski-weilheim.de/inde
 x.php/termine/terminejvevent/eventdetail/807/-/3-bzb-cup?tmpl=component)
X-ALT-DESC;FMTTYPE=text/html:<p>3. BZB Rennen</p><p>Riesenslalom auf der Kandahar</p><p>&nbsp;</p><p>&nb
 sp;</p> <a href="https://www.ski-weilheim.de/index.php/termine/terminejveve
 nt/eventdetail/807/-/3-bzb-cup?tmpl=component">Dieser Event wurde importier
 t von: https://www.ski-weilheim.de/index.php/termine/terminejvevent/eventde
 tail/807/-/3-bzb-cup?tmpl=component</a>X-EXTRAINFO:anmelden (index.php/?option=com_visforms&amp;view=visforms&amp;id=9&amp;for
 m9rennendatum=08.02.2025&amp;form9nenngeld=14&amp;form9rennenname=3. BZB RS
  )
DTSTAMP:20260420T121636
DTSTART;VALUE=DATE:20260207
DTEND;VALUE=DATE:20260208
SEQUENCE:0
TRANSP:OPAQUE
END:VEVENT
END:VCALENDAR