BEGIN:VCALENDAR
VERSION:2.0
PRODID:-//jEvents 2.0 for Joomla//EN
CALSCALE:GREGORIAN
METHOD:PUBLISH
BEGIN:VEVENT
UID:aac0fc5c74e9ce5ba5ea706af0da40e9
CATEGORIES:BZB-Cup
CREATED:20251126T094944
SUMMARY:2. BZB-Cup
LOCATION:Kühtai / Tirol
URL;VALUE=URI:https://www.ski-weilheim.de/index.php/termine/terminejvevent/eventdetail/80
 6/-/2-bzb-cup?tmpl=component
DESCRIPTION:2. BZB Rennen\nSlalom in Kühtai am Alpenrosenlift\n \nInterner Meldeschluss
  Mittwoch 2.1. 18:00 Uhr\n Dieser Event wurde importiert von: https://www.s
 ki-weilheim.de/index.php/termine/terminejvevent/eventdetail/806/-/2-bzb-cup
 ?tmpl=component (https://www.ski-weilheim.de/index.php/termine/terminejveve
 nt/eventdetail/806/-/2-bzb-cup?tmpl=component)
X-ALT-DESC;FMTTYPE=text/html:<p>2. BZB Rennen</p><p>Slalom in Kühtai am Alpenrosenlift</p><p>&nbsp;</p><
 p>Interner Meldeschluss Mittwoch 2.1. 18:00 Uhr</p> <a href="https://www.sk
 i-weilheim.de/index.php/termine/terminejvevent/eventdetail/806/-/2-bzb-cup?
 tmpl=component">Dieser Event wurde importiert von: https://www.ski-weilheim
 .de/index.php/termine/terminejvevent/eventdetail/806/-/2-bzb-cup?tmpl=compo
 nent</a>X-EXTRAINFO:anmelden (index.php/?option=com_visforms&amp;view=visforms&amp;id=9&amp;for
 m9rennendatum=05.01.2026&amp;form9nenngeld=14&amp;form9rennenname=2. BZB SL
  )
DTSTAMP:20260420T193440
DTSTART;VALUE=DATE:20260105
DTEND;VALUE=DATE:20260106
SEQUENCE:0
TRANSP:OPAQUE
END:VEVENT
END:VCALENDAR