BEGIN:VCALENDAR
VERSION:2.0
PRODID:-//jEvents 2.0 for Joomla//EN
CALSCALE:GREGORIAN
METHOD:PUBLISH
BEGIN:VEVENT
UID:a612ed0da1f21ab5216c9d863e2f97bb
CATEGORIES:BZB-Cup
CREATED:20251126T094900
SUMMARY:1. BZB-Cup
LOCATION:Kühtai / Tirol
URL;VALUE=URI:https://www.ski-weilheim.de/index.php/termine/terminejvevent/eventdetail/80
 5/-/1-bzb-cup?tmpl=component
DESCRIPTION:<p>1. BZB Rennen</p><p>Riesenslalom in Kühtai am Alpenrosenlift</p><p>Inter
 ner Meldeschluss Mittwoch 02.01.22</p> <a href="https://www.ski-weilheim.de
 /index.php/termine/terminejvevent/eventdetail/805/-/1-bzb-cup?tmpl=componen
 t">Dieser Event wurde importiert von: https://www.ski-weilheim.de/index.php
 /termine/terminejvevent/eventdetail/805/-/1-bzb-cup?tmpl=component</a>X-EXTRAINFO:anmelden (index.php/?option=com_visforms&amp;view=visforms&amp;id=9&amp;for
 m9rennendatum=04.01.2026&amp;form9nenngeld=14&amp;form9rennenname=1. BZB RS
  )
DTSTAMP:20260420T212029
DTSTART;VALUE=DATE:20260104
DTEND;VALUE=DATE:20260105
SEQUENCE:0
TRANSP:OPAQUE
END:VEVENT
END:VCALENDAR