BEGIN:VCALENDAR
VERSION:2.0
PRODID:-//jEvents 2.0 for Joomla//EN
CALSCALE:GREGORIAN
METHOD:PUBLISH
BEGIN:VEVENT
UID:1f04f3ca5adcd638350984110730f168
CATEGORIES:Zienercup
CREATED:20251126T094546
SUMMARY:5. Ziener-Cup
LOCATION:Katzenkopf / Leutasch
URL;VALUE=URI:https://www.ski-weilheim.de/index.php/termine/terminejvevent/eventdetail/80
 4/-/5-ziener-cup?tmpl=component
DESCRIPTION:5. Ziener-Cup\nRiesenslalom am Katzenkopf in der Leutasch\nfür die Jahrgäng
 e 2019 bis 2014\n \n \n \n \n Dieser Event wurde importiert von: https://ww
 w.ski-weilheim.de/index.php/termine/terminejvevent/eventdetail/804/-/5-zien
 er-cup?tmpl=component (https://www.ski-weilheim.de/index.php/termine/termin
 ejvevent/eventdetail/804/-/5-ziener-cup?tmpl=component)
X-ALT-DESC;FMTTYPE=text/html:<p>5. Ziener-Cup</p><p>Riesenslalom am Katzenkopf in der Leutasch</p><p>für
  die Jahrgänge 2019 bis 2014</p><p>&nbsp;</p><p>&nbsp;</p><p>&nbsp;</p><p>&
 nbsp;</p> <a href="https://www.ski-weilheim.de/index.php/termine/terminejve
 vent/eventdetail/804/-/5-ziener-cup?tmpl=component">Dieser Event wurde impo
 rtiert von: https://www.ski-weilheim.de/index.php/termine/terminejvevent/ev
 entdetail/804/-/5-ziener-cup?tmpl=component</a>X-EXTRAINFO:anmelden (index.php/?option=com_visforms&amp;view=visforms&amp;id=9&amp;for
 m9rennendatum=07.03.2026&amp;form9nenngeld=12&amp;form9rennenname=5. Ziener
 cup)
DTSTAMP:20260422T115944
DTSTART;VALUE=DATE:20260307
DTEND;VALUE=DATE:20260308
SEQUENCE:0
TRANSP:OPAQUE
END:VEVENT
END:VCALENDAR