BEGIN:VCALENDAR
VERSION:2.0
PRODID:-//jEvents 2.0 for Joomla//EN
CALSCALE:GREGORIAN
METHOD:PUBLISH
BEGIN:VEVENT
UID:38d600af04c6f041611fecebfd5442f3
CATEGORIES:Zienercup
CREATED:20251126T094426
SUMMARY:6. Ziener-Cup
LOCATION:Katzenkopf / Leutasch
URL;VALUE=URI:https://www.ski-weilheim.de/index.php/termine/terminejvevent/eventdetail/80
 3/-/6-ziener-cup?tmpl=component
DESCRIPTION:<p>6. Ziener-Cup</p><p>Slalom am Katzenkopf in der Leutasch</p><p>für die J
 ahrgänge 2019 bis 2014</p><p>&nbsp;</p><p>&nbsp;</p><p>&nbsp;</p><p>&nbsp;<
 /p> <a href="https://www.ski-weilheim.de/index.php/termine/terminejvevent/e
 ventdetail/803/-/6-ziener-cup?tmpl=component">Dieser Event wurde importiert
  von: https://www.ski-weilheim.de/index.php/termine/terminejvevent/eventdet
 ail/803/-/6-ziener-cup?tmpl=component</a>X-EXTRAINFO:anmelden (index.php/?option=com_visforms&amp;view=visforms&amp;id=9&amp;for
 m9rennendatum=08.03.2026&amp;form9nenngeld=12&amp;form9rennenname=6. Ziener
 cup)
DTSTAMP:20260420T122552
DTSTART;VALUE=DATE:20260308
DTEND;VALUE=DATE:20260309
SEQUENCE:0
TRANSP:OPAQUE
END:VEVENT
END:VCALENDAR