BEGIN:VCALENDAR
VERSION:2.0
PRODID:-//jEvents 2.0 for Joomla//EN
CALSCALE:GREGORIAN
METHOD:PUBLISH
BEGIN:VEVENT
UID:3afb2fc75c344808a0373ed9697bd57d
CATEGORIES:Zienercup
CREATED:20251126T094220
SUMMARY:3. Ziener-Cup
LOCATION:Kühtai
URL;VALUE=URI:https://www.ski-weilheim.de/index.php/termine/terminejvevent/eventdetail/80
 2/-/3-ziener-cup?tmpl=component
DESCRIPTION:<p>3. Ziener-Cup</p><p>Slalom im Kühtai</p><p>für die Jahrgänge 2019 bis 20
 14</p><p>&nbsp;</p><p>&nbsp;</p><p>&nbsp;</p><p>&nbsp;</p> <a href="https:/
 /www.ski-weilheim.de/index.php/termine/terminejvevent/eventdetail/802/-/3-z
 iener-cup?tmpl=component">Dieser Event wurde importiert von: https://www.sk
 i-weilheim.de/index.php/termine/terminejvevent/eventdetail/802/-/3-ziener-c
 up?tmpl=component</a>X-EXTRAINFO:anmelden (index.php/?option=com_visforms&amp;view=visforms&amp;id=9&amp;for
 m9rennendatum=25.01.2026&amp;form9nenngeld=12&amp;form9rennenname=3. Ziener
 cup)
DTSTAMP:20260421T012908
DTSTART;VALUE=DATE:20260125
DTEND;VALUE=DATE:20260126
SEQUENCE:0
TRANSP:OPAQUE
END:VEVENT
END:VCALENDAR