BEGIN:VCALENDAR
VERSION:2.0
PRODID:-//jEvents 2.0 for Joomla//EN
CALSCALE:GREGORIAN
METHOD:PUBLISH
BEGIN:VEVENT
UID:93eb96bfe46a93c444624cef95c48403
CATEGORIES:Zienercup
CREATED:20251126T093407
SUMMARY:2. Ziener-Cup
LOCATION:Kühtai
URL;VALUE=URI:https://www.ski-weilheim.de/index.php/termine/terminejvevent/eventdetail/80
 1/-/2-ziener-cup?tmpl=component
DESCRIPTION:<p>2. Ziener-Cup</p><p>Riesenslalom im Kühtai</p><p>Ausrichter SG Werdenfel
 s</p><p>für die Jahrgänge 2019 bis 2014</p><p>&nbsp;</p><p>&nbsp;</p><p>&nb
 sp;</p><p>&nbsp;</p><p>&nbsp;</p> <a href="https://www.ski-weilheim.de/inde
 x.php/termine/terminejvevent/eventdetail/801/-/2-ziener-cup?tmpl=component"
 >Dieser Event wurde importiert von: https://www.ski-weilheim.de/index.php/t
 ermine/terminejvevent/eventdetail/801/-/2-ziener-cup?tmpl=component</a>X-EXTRAINFO:anmelden (index.php/?option=com_visforms&amp;view=visforms&amp;id=9&amp;for
 m9rennendatum=24.01.2026&amp;form9nenngeld=12&amp;form9rennenname=2. Ziener
 cup)
DTSTAMP:20260420T135259
DTSTART;VALUE=DATE:20260124
DTEND;VALUE=DATE:20260125
SEQUENCE:0
TRANSP:OPAQUE
END:VEVENT
END:VCALENDAR