BEGIN:VCALENDAR
VERSION:2.0
PRODID:-//jEvents 2.0 for Joomla//EN
CALSCALE:GREGORIAN
METHOD:PUBLISH
BEGIN:VEVENT
UID:6dd18d496f384475166ba47818d63ae2
CATEGORIES:Kreiscup
CREATED:20251125T125101
SUMMARY:3. Kreiscup
LOCATION:Steckenberg / Unterammergau
URL;VALUE=URI:https://www.ski-weilheim.de/index.php/termine/terminejvevent/eventdetail/80
 0/-/3-kreiscup?tmpl=component
DESCRIPTION:Vielseitigkeitsslalom am Steckenberg\nBeginn: ca 16:30 Uhr\n \nVeranstalter
  DAV Peißenberg\n \n \n \n Dieser Event wurde importiert von: https://www.s
 ki-weilheim.de/index.php/termine/terminejvevent/eventdetail/800/-/3-kreiscu
 p?tmpl=component (https://www.ski-weilheim.de/index.php/termine/terminejvev
 ent/eventdetail/800/-/3-kreiscup?tmpl=component)
X-ALT-DESC;FMTTYPE=text/html:<p>Vielseitigkeitsslalom am Steckenberg</p><p>Beginn: ca 16:30 Uhr</p><p>&n
 bsp;</p><p>Veranstalter DAV Peißenberg</p><p>&nbsp;</p><p>&nbsp;</p><p>&nbs
 p;</p> <a href="https://www.ski-weilheim.de/index.php/termine/terminejveven
 t/eventdetail/800/-/3-kreiscup?tmpl=component">Dieser Event wurde importier
 t von: https://www.ski-weilheim.de/index.php/termine/terminejvevent/eventde
 tail/800/-/3-kreiscup?tmpl=component</a>X-EXTRAINFO:anmelden (index.php/?option=com_visforms&amp;view=visforms&amp;id=9&amp;for
 m9rennendatum=14.02.2026&amp;form9rennenname=3. Kreiscup&amp;form9nenngeld=
 12)
DTSTAMP:20260420T193444
DTSTART;VALUE=DATE:20260213
DTEND;VALUE=DATE:20260214
SEQUENCE:0
TRANSP:OPAQUE
END:VEVENT
END:VCALENDAR