BEGIN:VCALENDAR
VERSION:2.0
PRODID:-//jEvents 2.0 for Joomla//EN
CALSCALE:GREGORIAN
METHOD:PUBLISH
BEGIN:VEVENT
UID:7d2b2c4b06b45f8ea4530569dfbaac4c
CATEGORIES:Kreiscup
CREATED:20251125T124839
SUMMARY:1. Kreiscup
LOCATION:Steckenberg / Unterammergau
URL;VALUE=URI:https://www.ski-weilheim.de/index.php/termine/terminejvevent/eventdetail/79
 9/-/1-kreiscup?tmpl=component
DESCRIPTION:<p>Riesenslalom am Steckenberg</p><p>&nbsp;<em>gleichzeitig Kreisschülerski
 tag</em></p><p>Veranstalter SC Oberammergau</p><p>&nbsp;</p><p>&nbsp;</p><p
 >&nbsp;</p> <a href="https://www.ski-weilheim.de/index.php/termine/terminej
 vevent/eventdetail/799/-/1-kreiscup?tmpl=component">Dieser Event wurde impo
 rtiert von: https://www.ski-weilheim.de/index.php/termine/terminejvevent/ev
 entdetail/799/-/1-kreiscup?tmpl=component</a>X-EXTRAINFO:anmelden (index.php/?option=com_visforms&amp;view=visforms&amp;id=9&amp;for
 m9rennendatum=23.01.2026&amp;form9rennenname=1. Kreiscup&amp;form9nenngeld=
 12)
DTSTAMP:20260420T140019
DTSTART;VALUE=DATE:20260123
DTEND;VALUE=DATE:20260124
SEQUENCE:0
TRANSP:OPAQUE
END:VEVENT
END:VCALENDAR