BEGIN:VCALENDAR
VERSION:2.0
PRODID:-//jEvents 2.0 for Joomla//EN
CALSCALE:GREGORIAN
METHOD:PUBLISH
BEGIN:VEVENT
UID:f6b9cf99aa0de696c130d65e8af9ccd4
CATEGORIES:Zienercup
CREATED:20251124T173829
SUMMARY:Ziener-Cup Finale
LOCATION:Garmisch Classic
URL;VALUE=URI:https://www.ski-weilheim.de/index.php/termine/terminejvevent/eventdetail/79
 8/-/ziener-cup-finale?tmpl=component
DESCRIPTION:<p>Ziener-Cup Finale</p><p>Parallelslalom am Trögllift</p><p>für die Jahrgä
 nge 2019 bis 2014</p><p>&nbsp;</p><p>&nbsp;</p><p>&nbsp;</p><p>&nbsp;</p> <
 a href="https://www.ski-weilheim.de/index.php/termine/terminejvevent/eventd
 etail/798/-/ziener-cup-finale?tmpl=component">Dieser Event wurde importiert
  von: https://www.ski-weilheim.de/index.php/termine/terminejvevent/eventdet
 ail/798/-/ziener-cup-finale?tmpl=component</a>X-EXTRAINFO:anmelden (index.php/?option=com_visforms&amp;view=visforms&amp;id=9&amp;for
 m9rennendatum=28.03.2026&amp;form9nenngeld=14&amp;form9rennenname=Zienercup
  Finale)
DTSTAMP:20260420T123425
DTSTART;VALUE=DATE:20260328
DTEND;VALUE=DATE:20260329
SEQUENCE:0
TRANSP:OPAQUE
END:VEVENT
END:VCALENDAR