BEGIN:VCALENDAR
VERSION:2.0
PRODID:-//jEvents 2.0 for Joomla//EN
CALSCALE:GREGORIAN
METHOD:PUBLISH
BEGIN:VEVENT
UID:ea48dda88a48cb635daff7fbbaedfb77
CATEGORIES:BZB-Cup
CREATED:20251124T173715
SUMMARY:BZB-Cup Finale
LOCATION:Garmisch Classic
URL;VALUE=URI:https://www.ski-weilheim.de/index.php/termine/terminejvevent/eventdetail/79
 7/-/bzb-cup-finale?tmpl=component
DESCRIPTION:BZB Finale\nParallelslalom am Trögllift\n \n Dieser Event wurde importiert 
 von: https://www.ski-weilheim.de/index.php/termine/terminejvevent/eventdeta
 il/797/-/bzb-cup-finale?tmpl=component (https://www.ski-weilheim.de/index.p
 hp/termine/terminejvevent/eventdetail/797/-/bzb-cup-finale?tmpl=component)
X-ALT-DESC;FMTTYPE=text/html:<p>BZB Finale</p><p>Parallelslalom am Trögllift</p><p>&nbsp;</p> <a href="h
 ttps://www.ski-weilheim.de/index.php/termine/terminejvevent/eventdetail/797
 /-/bzb-cup-finale?tmpl=component">Dieser Event wurde importiert von: https:
 //www.ski-weilheim.de/index.php/termine/terminejvevent/eventdetail/797/-/bz
 b-cup-finale?tmpl=component</a>X-EXTRAINFO:anmelden (index.php/?option=com_visforms&amp;view=visforms&amp;id=9&amp;for
 m9rennendatum=29.03.2026&amp;form9nenngeld=14&amp;form9rennenname=BZB Final
 e )
DTSTAMP:20260420T164416
DTSTART;VALUE=DATE:20260329
DTEND;VALUE=DATE:20260330
SEQUENCE:0
TRANSP:OPAQUE
END:VEVENT
END:VCALENDAR