BEGIN:VCALENDAR
VERSION:2.0
PRODID:-//jEvents 2.0 for Joomla//EN
CALSCALE:GREGORIAN
METHOD:PUBLISH
BEGIN:VEVENT
UID:7b898d3983bdcbbf981dfdd8c897d923
CATEGORIES:Kinderrennen
CREATED:20251124T173614
SUMMARY:Mittenwalder Zwergerlrennen
LOCATION:Kranzberg Mittenwald
URL;VALUE=URI:https://www.ski-weilheim.de/index.php/termine/terminejvevent/eventdetail/79
 6/-/mittenwalder-zwergerlrennen?tmpl=component
DESCRIPTION:<p><em><strong>Mittenwalder Zwergerlrennen</strong></em></p><p><em>Für&nbsp
 ; die </em>Jahrgänge 2021 bis 2012</p><p>Kurze Strecke für die Jahrgänge 20
 21 und 2020</p><p>Lange Strecke für die Jahrgänge 2019 bis 2012</p><p>Start
  im Anschluss an die Minis</p><p><strong>Ein Durchgang RS</strong></p> <a h
 ref="https://www.ski-weilheim.de/index.php/termine/terminejvevent/eventdeta
 il/796/-/mittenwalder-zwergerlrennen?tmpl=component">Dieser Event wurde imp
 ortiert von: https://www.ski-weilheim.de/index.php/termine/terminejvevent/e
 ventdetail/796/-/mittenwalder-zwergerlrennen?tmpl=component</a>X-EXTRAINFO:anmelden (index.php/?option=com_visforms&amp;view=visforms&amp;id=9&amp;for
 m9rennendatum=06.01.2026&amp;form9nenngeld=12&amp;form9rennenname=Zwergerlr
 ennen)
DTSTAMP:20260420T224728
DTSTART;VALUE=DATE:20260106
DTEND;VALUE=DATE:20260107
SEQUENCE:0
TRANSP:OPAQUE
END:VEVENT
END:VCALENDAR