BEGIN:VCALENDAR
VERSION:2.0
PRODID:-//jEvents 2.0 for Joomla//EN
CALSCALE:GREGORIAN
METHOD:PUBLISH
BEGIN:VEVENT
UID:88cca3c841136c2222adc1563639b75a
CATEGORIES:Kinderrennen
CREATED:20251124T173424
SUMMARY:Schongauer Zwergerlrennen
LOCATION:Steckenberg Unterammergau
URL;VALUE=URI:https://www.ski-weilheim.de/index.php/termine/terminejvevent/eventdetail/79
 5/-/schongauer-zwergerlrennen?tmpl=component
DESCRIPTION:<p><em><strong>Schongauer Zwergerlrennen</strong></em></p><p>Liftbetrieb ab
  8:30 Uhr</p><p>Besichtigung: 9:30 Uhr</p><p>Start: 10:00 Uhr</p><p><strong
 >Ein Durchgang RS</strong></p> <a href="https://www.ski-weilheim.de/index.p
 hp/termine/terminejvevent/eventdetail/795/-/schongauer-zwergerlrennen?tmpl=
 component">Dieser Event wurde importiert von: https://www.ski-weilheim.de/i
 ndex.php/termine/terminejvevent/eventdetail/795/-/schongauer-zwergerlrennen
 ?tmpl=component</a>X-EXTRAINFO:anmelden (index.php/?option=com_visforms&amp;view=visforms&amp;id=9&amp;for
 m9rennendatum=07.02.2026&amp;form9nenngeld=12&amp;form9rennenname=Schongaue
 r Zwergerlrennen)
DTSTAMP:20260420T123241
DTSTART;VALUE=DATE:20260207
DTEND;VALUE=DATE:20260208
SEQUENCE:0
TRANSP:OPAQUE
END:VEVENT
END:VCALENDAR