BEGIN:VCALENDAR
VERSION:2.0
PRODID:-//jEvents 2.0 for Joomla//EN
CALSCALE:GREGORIAN
METHOD:PUBLISH
BEGIN:VEVENT
UID:7639a72c150965f78b3fec2f108ab7fb
CATEGORIES:Kinderrennen
CREATED:20251124T173033
SUMMARY:Werdenfelser Kinderskitag
LOCATION:Garmisch Partenkirchen
URL;VALUE=URI:https://www.ski-weilheim.de/index.php/termine/terminejvevent/eventdetail/79
 3/-/werdenfelser-kinderskitag?tmpl=component
DESCRIPTION:<p><em><strong>Werdenfelser Kinderskitag</strong></em></p><p><em>Für&nbsp; 
 die </em>Jahrgänge 2021 bis 2010</p><p>&nbsp;<em>gleichzeitig 1. Zienercup 
 für die Jahrgänge 2019 bis 2014</em></p><p>Alle Details und Uhrzeiten finde
 t ihr in der Ausschreibung unter rennmeldung.de</p><p>Genaue Informationen 
 zum Treffpunkt bekommt ihr noch kurzfristig</p><p>&nbsp;</p> <a href="https
 ://www.ski-weilheim.de/index.php/termine/terminejvevent/eventdetail/793/-/w
 erdenfelser-kinderskitag?tmpl=component">Dieser Event wurde importiert von:
  https://www.ski-weilheim.de/index.php/termine/terminejvevent/eventdetail/7
 93/-/werdenfelser-kinderskitag?tmpl=component</a>X-EXTRAINFO:anmelden (index.php/?option=com_visforms&amp;view=visforms&amp;id=9&amp;for
 m9rennendatum=17.01.2026&amp;form9nenngeld=14&amp;form9rennenname=Werdenfel
 ser Kinderskitag)
DTSTAMP:20260420T122751
DTSTART;VALUE=DATE:20260117
DTEND;VALUE=DATE:20260118
SEQUENCE:0
TRANSP:OPAQUE
END:VEVENT
END:VCALENDAR