BEGIN:VCALENDAR
VERSION:2.0
PRODID:-//jEvents 2.0 for Joomla//EN
CALSCALE:GREGORIAN
METHOD:PUBLISH
BEGIN:VEVENT
UID:b69565528e0489afe2fbdad78fe923fe
CATEGORIES:Kreiscup
CREATED:20251124T172343
SUMMARY:4. Kreiscup
LOCATION:Hausberg Garmisch Partenkirchen
URL;VALUE=URI:https://www.ski-weilheim.de/index.php/termine/terminejvevent/eventdetail/79
 2/-/4-kreiscup?tmpl=component
DESCRIPTION:Riesenslalom am Kreuzwankl\nVeranstalter TSV Weilheim\n Dieser Event wurde 
 importiert von: https://www.ski-weilheim.de/index.php/termine/terminejveven
 t/eventdetail/792/-/4-kreiscup?tmpl=component (https://www.ski-weilheim.de/
 index.php/termine/terminejvevent/eventdetail/792/-/4-kreiscup?tmpl=componen
 t)
X-ALT-DESC;FMTTYPE=text/html:<p>Riesenslalom am Kreuzwankl</p><p>Veranstalter TSV Weilheim</p> <a href="
 https://www.ski-weilheim.de/index.php/termine/terminejvevent/eventdetail/79
 2/-/4-kreiscup?tmpl=component">Dieser Event wurde importiert von: https://w
 ww.ski-weilheim.de/index.php/termine/terminejvevent/eventdetail/792/-/4-kre
 iscup?tmpl=component</a>X-EXTRAINFO:anmelden (index.php/?option=com_visforms&amp;view=visforms&amp;id=9&amp;for
 m9rennendatum=15.03.2026&amp;form9rennenname=4. Kreiscup&amp;form9nenngeld=
 12)
DTSTAMP:20260420T193455
DTSTART;VALUE=DATE:20260315
DTEND;VALUE=DATE:20260316
SEQUENCE:0
TRANSP:OPAQUE
END:VEVENT
END:VCALENDAR