BEGIN:VCALENDAR
VERSION:2.0
PRODID:-//jEvents 2.0 for Joomla//EN
CALSCALE:GREGORIAN
METHOD:PUBLISH
BEGIN:VEVENT
UID:bc43d4e6d19974c297cab707e251416a
CATEGORIES:BZB-Cup
CREATED:20250313T164258
SUMMARY:4. BZB-Cup
LOCATION:Kandahar GAP
URL;VALUE=URI:https://www.ski-weilheim.de/index.php/termine/terminejvevent/eventdetail/79
 0/-/4-bzb-cup?tmpl=component
DESCRIPTION:<p>4. BZB Rennen (Nachholtermin)</p><p>Riesenslalom auf der Kandahar</p><p>
 Für die Jahrgänge 2012 bis 2009</p><p>Start: 10 Uhr 1. Durchgang</p><p>&nbs
 p;</p><p>&nbsp;</p> <a href="https://www.ski-weilheim.de/index.php/termine/
 terminejvevent/eventdetail/790/-/4-bzb-cup?tmpl=component">Dieser Event wur
 de importiert von: https://www.ski-weilheim.de/index.php/termine/terminejve
 vent/eventdetail/790/-/4-bzb-cup?tmpl=component</a>X-EXTRAINFO:anmelden (index.php/?option=com_visforms&amp;view=visforms&amp;id=9&amp;for
 m9rennendatum=23.03.2025&amp;form9nenngeld=14&amp;form9rennenname=4. BZB RS
  )
DTSTAMP:20260421T042508
DTSTART:20250323T080000
DTEND:20250323T170000
SEQUENCE:0
TRANSP:OPAQUE
END:VEVENT
END:VCALENDAR