BEGIN:VCALENDAR
VERSION:2.0
PRODID:-//jEvents 2.0 for Joomla//EN
CALSCALE:GREGORIAN
METHOD:PUBLISH
BEGIN:VEVENT
UID:bac40c6c282dc9889b01fbadfcabc8b5
CATEGORIES:Kinderrennen
CREATED:20250212T081423
SUMMARY:Schongauer Zwergerlrennen
LOCATION:Steckenberg Unterammergau
URL;VALUE=URI:https://www.ski-weilheim.de/index.php/termine/terminejvevent/eventdetail/78
 9/-/schongauer-zwergerlrennen?tmpl=component
DESCRIPTION:Schongauer Zwergerlrennen\nFür  die Jahrgänge 2021 bis 2013\nLiftbetrieb ab
  8:30 Uhr\nBesichtigung: 9:30 Uhr\nStart: 10:00 Uhr\nEin Durchgang RS\n Die
 ser Event wurde importiert von: https://www.ski-weilheim.de/index.php/termi
 ne/terminejvevent/eventdetail/789/-/schongauer-zwergerlrennen?tmpl=componen
 t (https://www.ski-weilheim.de/index.php/termine/terminejvevent/eventdetail
 /789/-/schongauer-zwergerlrennen?tmpl=component)
X-ALT-DESC;FMTTYPE=text/html:<p><em><strong>Schongauer Zwergerlrennen</strong></em></p><p><em>Für&nbsp; 
 die </em>Jahrgänge 2021 bis 2013</p><p>Liftbetrieb ab 8:30 Uhr</p><p>Besich
 tigung: 9:30 Uhr</p><p>Start: 10:00 Uhr</p><p><strong>Ein Durchgang RS</str
 ong></p> <a href="https://www.ski-weilheim.de/index.php/termine/terminejvev
 ent/eventdetail/789/-/schongauer-zwergerlrennen?tmpl=component">Dieser Even
 t wurde importiert von: https://www.ski-weilheim.de/index.php/termine/termi
 nejvevent/eventdetail/789/-/schongauer-zwergerlrennen?tmpl=component</a>X-EXTRAINFO:anmelden (index.php/?option=com_visforms&amp;view=visforms&amp;id=9&amp;for
 m9rennendatum=14.02.2025&amp;form9nenngeld=12&amp;form9rennenname=Schongaue
 r Zwergerlrennen)
DTSTAMP:20260421T002538
DTSTART:20250222T100000
DTEND:20250222T170000
SEQUENCE:0
TRANSP:OPAQUE
END:VEVENT
END:VCALENDAR