BEGIN:VCALENDAR
VERSION:2.0
PRODID:-//jEvents 2.0 for Joomla//EN
CALSCALE:GREGORIAN
METHOD:PUBLISH
BEGIN:VEVENT
UID:e586dd0bfefdd5035e74daceed1ddbe1
CATEGORIES:Kinderrennen
CREATED:20250210T095118
SUMMARY:Oberammergauer Zwergerlrennen
LOCATION:Steckenberg Unterammergau
URL;VALUE=URI:https://www.ski-weilheim.de/index.php/termine/terminejvevent/eventdetail/78
 8/-/oberammergauer-zwergerlrennen?tmpl=component
DESCRIPTION:Oberammergauer Zwergerlrennen\nFür  die Jahrgänge 2020 bis 2011\nKurze Stre
 cke für die Jahrgänge 2020 und 2019\nStart: 16:30\nLange Strecke für die Ja
 hrgänge 2018 bis 2011\nStart im Anschluss an die Minis\nEin Durchgang RS\n 
 Dieser Event wurde importiert von: https://www.ski-weilheim.de/index.php/te
 rmine/terminejvevent/eventdetail/788/-/oberammergauer-zwergerlrennen?tmpl=c
 omponent (https://www.ski-weilheim.de/index.php/termine/terminejvevent/even
 tdetail/788/-/oberammergauer-zwergerlrennen?tmpl=component)
X-ALT-DESC;FMTTYPE=text/html:<p><em><strong>Oberammergauer Zwergerlrennen</strong></em></p><p><em>Für&nb
 sp; die </em>Jahrgänge 2020 bis 2011</p><p>Kurze Strecke für die Jahrgänge 
 2020 und 2019</p><p>Start: 16:30</p><p>Lange Strecke für die Jahrgänge 2018
  bis 2011</p><p>Start im Anschluss an die Minis</p><p><strong>Ein Durchgang
  RS</strong></p> <a href="https://www.ski-weilheim.de/index.php/termine/ter
 minejvevent/eventdetail/788/-/oberammergauer-zwergerlrennen?tmpl=component"
 >Dieser Event wurde importiert von: https://www.ski-weilheim.de/index.php/t
 ermine/terminejvevent/eventdetail/788/-/oberammergauer-zwergerlrennen?tmpl=
 component</a>X-EXTRAINFO:anmelden (index.php/?option=com_visforms&amp;view=visforms&amp;id=9&amp;for
 m9rennendatum=14.02.2025&amp;form9nenngeld=12&amp;form9rennenname=Zwergerlr
 ennen)
DTSTAMP:20260421T052408
DTSTART:20250214T163000
DTEND:20250214T190000
SEQUENCE:0
TRANSP:OPAQUE
END:VEVENT
END:VCALENDAR