BEGIN:VCALENDAR
VERSION:2.0
PRODID:-//jEvents 2.0 for Joomla//EN
CALSCALE:GREGORIAN
METHOD:PUBLISH
BEGIN:VEVENT
UID:af8f8e13739438f5f0a1a8ed44b2ca95
CATEGORIES:Kreiscup
CREATED:20241216T103853
SUMMARY:3. Kreiscup
LOCATION:Reithlift am Tegelberg
URL;VALUE=URI:https://www.ski-weilheim.de/index.php/termine/terminejvevent/eventdetail/78
 4/-/3-kreiscup?tmpl=component
DESCRIPTION:Slalom am Tegelberg / Reithlift\nBeginn: 9:30 Uhr für Schüler und Jugend (J
 ahrgang 2012 bis 2004)\nBesichtigung: 8:45 - 9:15 Uhr\nIm Anschluss ca. 13 
 Uhr Slalom der Kinder (Jahrgang 2017 bis 2013)\nBesichtigung: ca 12:15 bis 
 12:45 Uhr\nVeranstalter SC Lauterbach\n \n \n \n \n Dieser Event wurde impo
 rtiert von: https://www.ski-weilheim.de/index.php/termine/terminejvevent/ev
 entdetail/784/-/3-kreiscup?tmpl=component (https://www.ski-weilheim.de/inde
 x.php/termine/terminejvevent/eventdetail/784/-/3-kreiscup?tmpl=component)
X-ALT-DESC;FMTTYPE=text/html:<p><strong>Slalom am Tegelberg / Reithlift</strong></p><p>Beginn: 9:30 Uhr 
 für Schüler und Jugend (Jahrgang 2012 bis 2004)</p><p>Besichtigung: 8:45 - 
 9:15 Uhr</p><p>Im Anschluss ca. 13 Uhr Slalom der Kinder (Jahrgang 2017 bis
  2013)</p><p>Besichtigung: ca 12:15 bis 12:45 Uhr</p><p>Veranstalter SC Lau
 terbach</p><p>&nbsp;</p><p>&nbsp;</p><p>&nbsp;</p><p>&nbsp;</p> <a href="ht
 tps://www.ski-weilheim.de/index.php/termine/terminejvevent/eventdetail/784/
 -/3-kreiscup?tmpl=component">Dieser Event wurde importiert von: https://www
 .ski-weilheim.de/index.php/termine/terminejvevent/eventdetail/784/-/3-kreis
 cup?tmpl=component</a>X-EXTRAINFO:anmelden (index.php/?option=com_visforms&amp;view=visforms&amp;id=9&amp;for
 m9rennendatum=16.02.2025&amp;form9rennenname=3. Kreiscup&amp;form9nenngeld=
 12)
DTSTAMP:20260421T000718
DTSTART:20250216T080000
DTEND:20250216T170000
SEQUENCE:0
TRANSP:OPAQUE
END:VEVENT
END:VCALENDAR