BEGIN:VCALENDAR
VERSION:2.0
PRODID:-//jEvents 2.0 for Joomla//EN
CALSCALE:GREGORIAN
METHOD:PUBLISH
BEGIN:VEVENT
UID:c7fc4825e388902ad6eb7a8609074863
CATEGORIES:Kreiscup
CREATED:20241216T103748
SUMMARY:2. Kreiscup
LOCATION:Reithlift am Tegelberg
URL;VALUE=URI:https://www.ski-weilheim.de/index.php/termine/terminejvevent/eventdetail/78
 3/-/2-kreiscup?tmpl=component
DESCRIPTION:<p>Riesenslalom am Tegelberg / Reithlift</p><p>Start: 10:00 Uhr</p><p>Besic
 htigung: 9:00 - 9:30 Uhr</p><p>Liftbetrieb ab 8:30 Uhr</p><p>Veranstalter S
 C Hohenfurch</p><p>&nbsp;</p><p>&nbsp;</p><p>&nbsp;</p> <a href="https://ww
 w.ski-weilheim.de/index.php/termine/terminejvevent/eventdetail/783/-/2-krei
 scup?tmpl=component">Dieser Event wurde importiert von: https://www.ski-wei
 lheim.de/index.php/termine/terminejvevent/eventdetail/783/-/2-kreiscup?tmpl
 =component</a>X-EXTRAINFO:anmelden (index.php/?option=com_visforms&amp;view=visforms&amp;id=9&amp;for
 m9rennendatum=09.02.2025&amp;form9rennenname=2. Kreiscup&amp;form9nenngeld=
 12)
DTSTAMP:20260421T013812
DTSTART:20250209T080000
DTEND:20250209T170000
SEQUENCE:0
TRANSP:OPAQUE
END:VEVENT
END:VCALENDAR