BEGIN:VCALENDAR
VERSION:2.0
PRODID:-//jEvents 2.0 for Joomla//EN
CALSCALE:GREGORIAN
METHOD:PUBLISH
BEGIN:VEVENT
UID:07da0b128288b272d12ddb336e3d8785
CATEGORIES:Trainingstermine
CREATED:20241206T094217
SUMMARY:Training am Hausberg
LOCATION:Hausberg GAP
URL;VALUE=URI:https://www.ski-weilheim.de/index.php/termine/terminejvevent/eventdetail/78
 1/-/training-am-hausberg?tmpl=component
DESCRIPTION:Training am Hausberg\nALLE Gruppen\nTreffpunkt: 8:15 Uhr Hausberg Talstatio
 n\nBeginn: 8:30 Uhr\nEnde: 12:30 Uhr\n Dieser Event wurde importiert von: h
 ttps://www.ski-weilheim.de/index.php/termine/terminejvevent/eventdetail/781
 /-/training-am-hausberg?tmpl=component
X-ALT-DESC;FMTTYPE=text/html:<p>Training am Hausberg</p><p>ALLE Gruppen</p><p>Treffpunkt: 8:15 Uhr Hausb
 erg Talstation</p><p>Beginn: 8:30 Uhr</p><p>Ende: 12:30 Uhr</p> <a href="ht
 tps://www.ski-weilheim.de/index.php/termine/terminejvevent/eventdetail/781/
 -/training-am-hausberg?tmpl=component">Dieser Event wurde importiert von: h
 ttps://www.ski-weilheim.de/index.php/termine/terminejvevent/eventdetail/781
 /-/training-am-hausberg?tmpl=component</a>DTSTAMP:20260421T002747
DTSTART:20250308T083000
DTEND:20250308T123000
SEQUENCE:0
TRANSP:OPAQUE
END:VEVENT
END:VCALENDAR