BEGIN:VCALENDAR
VERSION:2.0
PRODID:-//jEvents 2.0 for Joomla//EN
CALSCALE:GREGORIAN
METHOD:PUBLISH
BEGIN:VEVENT
UID:b0ebe1ae570e4b8b7ca5ce7ec9b83408
CATEGORIES:Trainingstermine
CREATED:20241206T094046
SUMMARY:Training am Hausberg
LOCATION:Hausberg GAP
URL;VALUE=URI:https://www.ski-weilheim.de/index.php/termine/terminejvevent/eventdetail/77
 9/-/training-am-hausberg?tmpl=component
DESCRIPTION:Training am Hausberg\nALLE Gruppen\nTreffpunkt: 8:15 Uhr Hausberg Talstatio
 n\nBeginn: 8:30 Uhr\nEnde: 12:30 Uhr\n Dieser Event wurde importiert von: h
 ttps://www.ski-weilheim.de/index.php/termine/terminejvevent/eventdetail/779
 /-/training-am-hausberg?tmpl=component (https://www.ski-weilheim.de/index.p
 hp/termine/terminejvevent/eventdetail/779/-/training-am-hausberg?tmpl=compo
 nent)
X-ALT-DESC;FMTTYPE=text/html:<p>Training am Hausberg</p><p>ALLE Gruppen</p><p>Treffpunkt: 8:15 Uhr Hausb
 erg Talstation</p><p>Beginn: 8:30 Uhr</p><p>Ende: 12:30 Uhr</p> <a href="ht
 tps://www.ski-weilheim.de/index.php/termine/terminejvevent/eventdetail/779/
 -/training-am-hausberg?tmpl=component">Dieser Event wurde importiert von: h
 ttps://www.ski-weilheim.de/index.php/termine/terminejvevent/eventdetail/779
 /-/training-am-hausberg?tmpl=component</a>DTSTAMP:20260421T002312
DTSTART:20250301T083000
DTEND:20250301T123000
SEQUENCE:0
TRANSP:OPAQUE
END:VEVENT
END:VCALENDAR