BEGIN:VCALENDAR
VERSION:2.0
PRODID:-//jEvents 2.0 for Joomla//EN
CALSCALE:GREGORIAN
METHOD:PUBLISH
BEGIN:VEVENT
UID:04a170a9bce53ba0f1cb8c0a4f37bcd9
CATEGORIES:BZB-Cup
CREATED:20241206T094003
SUMMARY:BZB-Cup Finale
LOCATION:Garmisch Classic
URL;VALUE=URI:https://www.ski-weilheim.de/index.php/termine/terminejvevent/eventdetail/77
 8/-/bzb-cup-finale?tmpl=component
DESCRIPTION:<p>BZB Finale</p><p>Parallelslalom am Trögllift</p><p>&nbsp;</p> <a href="h
 ttps://www.ski-weilheim.de/index.php/termine/terminejvevent/eventdetail/778
 /-/bzb-cup-finale?tmpl=component">Dieser Event wurde importiert von: https:
 //www.ski-weilheim.de/index.php/termine/terminejvevent/eventdetail/778/-/bz
 b-cup-finale?tmpl=component</a>X-EXTRAINFO:anmelden (index.php/?option=com_visforms&amp;view=visforms&amp;id=9&amp;for
 m9rennendatum=30.03.2025&amp;form9nenngeld=14&amp;form9rennenname=BZB Final
 e )
DTSTAMP:20260421T055149
DTSTART:20250330T080000
DTEND:20250330T170000
SEQUENCE:0
TRANSP:OPAQUE
END:VEVENT
END:VCALENDAR