BEGIN:VCALENDAR
VERSION:2.0
PRODID:-//jEvents 2.0 for Joomla//EN
CALSCALE:GREGORIAN
METHOD:PUBLISH
BEGIN:VEVENT
UID:a922e3bb51b12e31ac511751bc72d5f7
CATEGORIES:Zienercup
CREATED:20241206T093917
SUMMARY:Ziener-Cup Finale
LOCATION:Garmisch Classic
URL;VALUE=URI:https://www.ski-weilheim.de/index.php/termine/terminejvevent/eventdetail/77
 7/-/ziener-cup-finale?tmpl=component
DESCRIPTION:Ziener-Cup Finale\nParallelslalom am Trögllift\nfür die Jahrgänge 2017 bis 
 2013\n \n \n \n \n Dieser Event wurde importiert von: https://www.ski-weilh
 eim.de/index.php/termine/terminejvevent/eventdetail/777/-/ziener-cup-finale
 ?tmpl=component (https://www.ski-weilheim.de/index.php/termine/terminejveve
 nt/eventdetail/777/-/ziener-cup-finale?tmpl=component)
X-ALT-DESC;FMTTYPE=text/html:<p>Ziener-Cup Finale</p><p>Parallelslalom am Trögllift</p><p>für die Jahrgä
 nge 2017 bis 2013</p><p>&nbsp;</p><p>&nbsp;</p><p>&nbsp;</p><p>&nbsp;</p> <
 a href="https://www.ski-weilheim.de/index.php/termine/terminejvevent/eventd
 etail/777/-/ziener-cup-finale?tmpl=component">Dieser Event wurde importiert
  von: https://www.ski-weilheim.de/index.php/termine/terminejvevent/eventdet
 ail/777/-/ziener-cup-finale?tmpl=component</a>X-EXTRAINFO:anmelden (index.php/?option=com_visforms&amp;view=visforms&amp;id=9&amp;for
 m9rennendatum=29.03.2025&amp;form9nenngeld=14&amp;form9rennenname=Zienercup
  Finale)
DTSTAMP:20260421T042658
DTSTART:20250329T080000
DTEND:20250329T170000
SEQUENCE:0
TRANSP:OPAQUE
END:VEVENT
END:VCALENDAR