BEGIN:VCALENDAR
VERSION:2.0
PRODID:-//jEvents 2.0 for Joomla//EN
CALSCALE:GREGORIAN
METHOD:PUBLISH
BEGIN:VEVENT
UID:414d602494f67865010722012f0c89f3
CATEGORIES:Zienercup
CREATED:20241206T093826
SUMMARY:6. Ziener-Cup
LOCATION:Kandahar GAP
URL;VALUE=URI:https://www.ski-weilheim.de/index.php/termine/terminejvevent/eventdetail/77
 6/-/6-ziener-cup?tmpl=component
DESCRIPTION:<p>6. Ziener-Cup</p><p>Riesenslalom auf der Kandahar</p><p>für die Jahrgäng
 e 2017 bis 2013</p><p>&nbsp;</p><p>&nbsp;</p><p>&nbsp;</p><p>&nbsp;</p> <a 
 href="https://www.ski-weilheim.de/index.php/termine/terminejvevent/eventdet
 ail/776/-/6-ziener-cup?tmpl=component">Dieser Event wurde importiert von: h
 ttps://www.ski-weilheim.de/index.php/termine/terminejvevent/eventdetail/776
 /-/6-ziener-cup?tmpl=component</a>X-EXTRAINFO:anmelden (index.php/?option=com_visforms&amp;view=visforms&amp;id=9&amp;for
 m9rennendatum=08.03.2025&amp;form9nenngeld=12&amp;form9rennenname=5. Ziener
 cup)
DTSTAMP:20260421T001414
DTSTART:20250308T080000
DTEND:20250308T170000
SEQUENCE:0
TRANSP:OPAQUE
END:VEVENT
END:VCALENDAR