BEGIN:VCALENDAR
VERSION:2.0
PRODID:-//jEvents 2.0 for Joomla//EN
CALSCALE:GREGORIAN
METHOD:PUBLISH
BEGIN:VEVENT
UID:4a65fa053b70d6ac7c60871533eff976
CATEGORIES:BZB-Cup
CREATED:20241206T093045
SUMMARY:5. BZB-Cup
LOCATION:Gudiberg GAP
URL;VALUE=URI:https://www.ski-weilheim.de/index.php/termine/terminejvevent/eventdetail/77
 4/-/5-bzb-cup?tmpl=component
DESCRIPTION:5. BZB Rennen\nRiesenslalom am Gudiberg\n \n \n Dieser Event wurde importie
 rt von: https://www.ski-weilheim.de/index.php/termine/terminejvevent/eventd
 etail/774/-/5-bzb-cup?tmpl=component (https://www.ski-weilheim.de/index.php
 /termine/terminejvevent/eventdetail/774/-/5-bzb-cup?tmpl=component)
X-ALT-DESC;FMTTYPE=text/html:<p>5. BZB Rennen</p><p>Riesenslalom am Gudiberg</p><p>&nbsp;</p><p>&nbsp;</
 p> <a href="https://www.ski-weilheim.de/index.php/termine/terminejvevent/ev
 entdetail/774/-/5-bzb-cup?tmpl=component">Dieser Event wurde importiert von
 : https://www.ski-weilheim.de/index.php/termine/terminejvevent/eventdetail/
 774/-/5-bzb-cup?tmpl=component</a>X-EXTRAINFO:anmelden (index.php/?option=com_visforms&amp;view=visforms&amp;id=9&amp;for
 m9rennendatum=06.03.2025&amp;form9nenngeld=14&amp;form9rennenname=5. BZB RS
  )
DTSTAMP:20260421T000733
DTSTART;VALUE=DATE:20250306
DTEND;VALUE=DATE:20250307
SEQUENCE:0
TRANSP:OPAQUE
END:VEVENT
END:VCALENDAR