BEGIN:VCALENDAR
VERSION:2.0
PRODID:-//jEvents 2.0 for Joomla//EN
CALSCALE:GREGORIAN
METHOD:PUBLISH
BEGIN:VEVENT
UID:464344d41090d2c9b02e288ee169a317
CATEGORIES:Zienercup
CREATED:20241206T092811
SUMMARY:5. Ziener-Cup
LOCATION: Seefeld an der Seewaldalm
URL;VALUE=URI:https://www.ski-weilheim.de/index.php/termine/terminejvevent/eventdetail/77
 3/-/5-ziener-cup?tmpl=component
DESCRIPTION:5. Ziener-Cup\nSlalom\nfür die Jahrgänge 2017 bis 2013\n \n \n \n \n Dieser
  Event wurde importiert von: https://www.ski-weilheim.de/index.php/termine/
 terminejvevent/eventdetail/773/-/5-ziener-cup?tmpl=component (https://www.s
 ki-weilheim.de/index.php/termine/terminejvevent/eventdetail/773/-/5-ziener-
 cup?tmpl=component)
X-ALT-DESC;FMTTYPE=text/html:<p>5. Ziener-Cup</p><p>Slalom</p><p>für die Jahrgänge 2017 bis 2013</p><p>&
 nbsp;</p><p>&nbsp;</p><p>&nbsp;</p><p>&nbsp;</p> <a href="https://www.ski-w
 eilheim.de/index.php/termine/terminejvevent/eventdetail/773/-/5-ziener-cup?
 tmpl=component">Dieser Event wurde importiert von: https://www.ski-weilheim
 .de/index.php/termine/terminejvevent/eventdetail/773/-/5-ziener-cup?tmpl=co
 mponent</a>X-EXTRAINFO:anmelden (index.php/?option=com_visforms&amp;view=visforms&amp;id=9&amp;for
 m9rennendatum=22.02.2025&amp;form9nenngeld=12&amp;form9rennenname=5. Ziener
 cup)
DTSTAMP:20260421T000703
DTSTART:20250222T103000
DTEND:20250222T170000
SEQUENCE:0
TRANSP:OPAQUE
END:VEVENT
END:VCALENDAR