BEGIN:VCALENDAR
VERSION:2.0
PRODID:-//jEvents 2.0 for Joomla//EN
CALSCALE:GREGORIAN
METHOD:PUBLISH
BEGIN:VEVENT
UID:0963e1fd1fd8caf5490f4f993ca4b990
CATEGORIES:BZB-Cup
CREATED:20241206T092711
SUMMARY:3. BZB-Cup
LOCATION:Gudiberg GAP
URL;VALUE=URI:https://www.ski-weilheim.de/index.php/termine/terminejvevent/eventdetail/77
 2/-/3-bzb-cup?tmpl=component
DESCRIPTION:3. BZB Rennen\nSlalom am Gudiberg\n \n \n Dieser Event wurde importiert von
 : https://www.ski-weilheim.de/index.php/termine/terminejvevent/eventdetail/
 772/-/3-bzb-cup?tmpl=component (https://www.ski-weilheim.de/index.php/termi
 ne/terminejvevent/eventdetail/772/-/3-bzb-cup?tmpl=component)
X-ALT-DESC;FMTTYPE=text/html:<p>3. BZB Rennen</p><p>Slalom am Gudiberg</p><p>&nbsp;</p><p>&nbsp;</p> <a 
 href="https://www.ski-weilheim.de/index.php/termine/terminejvevent/eventdet
 ail/772/-/3-bzb-cup?tmpl=component">Dieser Event wurde importiert von: http
 s://www.ski-weilheim.de/index.php/termine/terminejvevent/eventdetail/772/-/
 3-bzb-cup?tmpl=component</a>X-EXTRAINFO:anmelden (index.php/?option=com_visforms&amp;view=visforms&amp;id=9&amp;for
 m9rennendatum=08.02.2025&amp;form9nenngeld=14&amp;form9rennenname=3. BZB SL
  )
DTSTAMP:20260421T052228
DTSTART;VALUE=DATE:20250208
DTEND;VALUE=DATE:20250209
SEQUENCE:0
TRANSP:OPAQUE
END:VEVENT
END:VCALENDAR