BEGIN:VCALENDAR
VERSION:2.0
PRODID:-//jEvents 2.0 for Joomla//EN
CALSCALE:GREGORIAN
METHOD:PUBLISH
BEGIN:VEVENT
UID:0c8bd461d3cc978a454c98761ddcf881
CATEGORIES:Zienercup
CREATED:20241206T092551
SUMMARY:3. Ziener-Cup
LOCATION: 
URL;VALUE=URI:https://www.ski-weilheim.de/index.php/termine/terminejvevent/eventdetail/77
 1/-/3-ziener-cup?tmpl=component
DESCRIPTION:3. Ziener-Cup\nRiesenslalom\nfür die Jahrgänge 2017 bis 2013\n \n \n \n \n 
 Dieser Event wurde importiert von: https://www.ski-weilheim.de/index.php/te
 rmine/terminejvevent/eventdetail/771/-/3-ziener-cup?tmpl=component
X-ALT-DESC;FMTTYPE=text/html:<p>3. Ziener-Cup</p><p>Riesenslalom</p><p>für die Jahrgänge 2017 bis 2013</
 p><p>&nbsp;</p><p>&nbsp;</p><p>&nbsp;</p><p>&nbsp;</p> <a href="https://www
 .ski-weilheim.de/index.php/termine/terminejvevent/eventdetail/771/-/3-ziene
 r-cup?tmpl=component">Dieser Event wurde importiert von: https://www.ski-we
 ilheim.de/index.php/termine/terminejvevent/eventdetail/771/-/3-ziener-cup?t
 mpl=component</a>X-EXTRAINFO:anmelden (index.php/?option=com_visforms&amp;view=visforms&amp;id=9&amp;for
 m9rennendatum=01.02.2025&amp;form9nenngeld=12&amp;form9rennenname=3. Ziener
 cup)
DTSTAMP:20260421T021606
DTSTART;VALUE=DATE:20250201
DTEND;VALUE=DATE:20250202
SEQUENCE:0
TRANSP:OPAQUE
END:VEVENT
END:VCALENDAR