BEGIN:VCALENDAR
VERSION:2.0
PRODID:-//jEvents 2.0 for Joomla//EN
CALSCALE:GREGORIAN
METHOD:PUBLISH
BEGIN:VEVENT
UID:aeb6060fb2db27c8310f66f81b068594
CATEGORIES:Trainingstermine
CREATED:20241206T092139
SUMMARY:Training Ehrwald
LOCATION:Wettersteinlifte Ehrwald
URL;VALUE=URI:https://www.ski-weilheim.de/index.php/termine/terminejvevent/eventdetail/77
 0/-/training-ehrwald?tmpl=component
DESCRIPTION:Riesenslalom Training\nan den Wettersteinliften in Ehrwald\nbei schlechter 
 Wetterlage Training am Hausberg\n Dieser Event wurde importiert von: https:
 //www.ski-weilheim.de/index.php/termine/terminejvevent/eventdetail/770/-/tr
 aining-ehrwald?tmpl=component (https://www.ski-weilheim.de/index.php/termin
 e/terminejvevent/eventdetail/770/-/training-ehrwald?tmpl=component)
X-ALT-DESC;FMTTYPE=text/html:<p>Riesenslalom Training</p><p>an den Wettersteinliften in Ehrwald</p><p>be
 i schlechter Wetterlage Training am Hausberg</p> <a href="https://www.ski-w
 eilheim.de/index.php/termine/terminejvevent/eventdetail/770/-/training-ehrw
 ald?tmpl=component">Dieser Event wurde importiert von: https://www.ski-weil
 heim.de/index.php/termine/terminejvevent/eventdetail/770/-/training-ehrwald
 ?tmpl=component</a>DTSTAMP:20260421T021621
DTSTART:20250104T083000
DTEND:20250104T123000
SEQUENCE:0
TRANSP:OPAQUE
END:VEVENT
END:VCALENDAR