BEGIN:VCALENDAR
VERSION:2.0
PRODID:-//jEvents 2.0 for Joomla//EN
CALSCALE:GREGORIAN
METHOD:PUBLISH
BEGIN:VEVENT
UID:9a4589462668cc462a7f507166c8581b
CATEGORIES:Schulferien
CREATED:20170523T114418
SUMMARY:Herbstferien
URL;VALUE=URI:https://www.ski-weilheim.de/index.php/termine/terminejvevent/eventdetail/77
 /-/herbstferien?tmpl=component
DESCRIPTION: <a href="https://www.ski-weilheim.de/index.php/termine/terminejvevent/even
 tdetail/77/-/herbstferien?tmpl=component">Dieser Event wurde importiert von
 : https://www.ski-weilheim.de/index.php/termine/terminejvevent/eventdetail/
 77/-/herbstferien?tmpl=component</a>DTSTAMP:20260421T101400
DTSTART:20171030T080000
DTEND:20171105T170000
SEQUENCE:0
TRANSP:OPAQUE
END:VEVENT
END:VCALENDAR